BEGIN:VCALENDAR
VERSION:2.0
PRODID:-//ExpressionEngine Easy iCalendar plugin//NONSGML v2.0.1//EN
X-WR-TIMEZONE:America/New_York
X-WR-CALNAME:Upcoming Auctions
BEGIN:VEVENT
UID:148229
DTSTAMP:20251001T210000
DTSTART:20251001T210000
DTEND:20251016T190000
SUMMARY:Williamsburg Downsizing
LOCATION:{location}
DESCRIPTION:Williamsburg Downsizing Online Auction Location:Â Williamsbu
 rg\, VA - address provided in winning invoices Auction Type:Â
  Online Bidding Only Preview Times:Â By Appointment Wednesda
 y\, Oct 15. To schedule call Carolyn at 757-846-8620 Auction 
 Closes:Â Thursday\, October 16Â beginningÂ at 7 PM withÂ 5 lo
 ts closingÂ per minute.Â  Pickup:Â Friday\, October 17\, 10- 4
  PM and Saturday\, Oct 18\,Â 8:30 - 1 PM.Â  Shipping:Â Shippin
 g Available on items that will fit in a standard box.Â  Tax 
 Rate: This auction will have a 7% Virginia Sales Tax Rate ad
 ded to each item.Â  Our seller has settled comfortably into 
 his new home\, and these items just won't fit! Highlights of 
 this online auction include: Art: 1865 Rufus Wright oil on c
 anvas portrait\, Hans Meyer 'Marietta da Napoli' charcoal dra
 wing\, numerous lithographs\, prints\, and giclees on canvas of
  our nation's Presidents and Revolutionary War images. Ceram
 ics: Two Jardiniere and Pedestals\, Limoges pitcher\, plates\, 
 gilded basket\, teapot\, and coffee pot. Collectibles: Sterlin
 g Compact with paint and enamel decorations\, antique heart s
 haped leather coin purse\, Heinrichsen German lead Christmas 
 village figures\, Sterling Silver card case with USN Officer 
 cards\, antique perfume bottles\, Bohemian Harrach Art Glass e
 nameled pitcher\, Victorian architectural salvage hardware\,Â 
 Rookwood pottery elephant bookends. and a yellow reflective 
 stop sign with raised glass lettering.Â  Furniture: Ball and
  Stick table attributed to Merklen Brothers\, Walnut Lockside
  Chest of Drawers\, Wood pedestals\, 19th century work table w
 ith rope twisted legs\, Egyptian Revival console table and mi
 rror\,Â  Georgia Revival over mantle mahogany and gilt wood m
 irror\, and a Macey barrister bookcase. Â  Preview\, Shipping\,
  and Pickup Information This is an online only auction which
  will begin to close on Thursday\, October 16 at 7:00 PM and 
 will close at the rate of 5 lots per minute with a 60 second
  auto extend. That means if a bid is placed within the last 
 minute for any lot the time for that lot will be extended fo
 r another 60 seconds until no further bid advancements are p
 laced and the lot will close. You may desire using the Max B
 id option if you are bidding on multiple items in a closing 
 sequence. Preview:Â Available by appointment on Wednesday\, O
 ct 15\, by appointment. Call Carolyn at 757-846-8620 to sched
 ule.Â  Shipping is available for items in this auction.Â Shi
 pping will begin no later than Monday following the auction 
 close. You will receive a separate invoice for shipping.Â Af
 ter packing and weighing\, we choose the most economical ship
 ping fee\, with insurance\, for you.Â Once your invoiced is pa
 id\, your item will be shipped.Â  Thank you for being part of
  the Walnut Hill Auctions community\, we appreciate you!
URL:https://www.walnuthillauctions.com/auctions/detail/bw148229
SEQUENCE:1
END:VEVENT
END:VCALENDAR